BEGIN:VCALENDAR
VERSION:2.0
PRODID:-//Chesterton Academy of Ottawa - ECPv6.15.17.1//NONSGML v1.0//EN
CALSCALE:GREGORIAN
METHOD:PUBLISH
X-ORIGINAL-URL:https://chestertonacademyofottawa.ca
X-WR-CALDESC:Events for Chesterton Academy of Ottawa
REFRESH-INTERVAL;VALUE=DURATION:PT1H
X-Robots-Tag:noindex
X-PUBLISHED-TTL:PT1H
BEGIN:VTIMEZONE
TZID:UTC
BEGIN:STANDARD
TZOFFSETFROM:+0000
TZOFFSETTO:+0000
TZNAME:UTC
DTSTART:20220101T000000
END:STANDARD
END:VTIMEZONE
BEGIN:VEVENT
DTSTART;TZID=UTC:20230306T080000
DTEND;TZID=UTC:20230310T170000
DTSTAMP:20260423T003518
CREATED:20220916T205321Z
LAST-MODIFIED:20220916T205321Z
UID:2778-1678089600-1678467600@chestertonacademyofottawa.ca
SUMMARY:National Latin Exams
DESCRIPTION:
URL:https://chestertonacademyofottawa.ca/event/national-latin-exams/
LOCATION:Ontario
ATTACH;FMTTYPE=image/jpeg:https://chestertonacademyofottawa.ca/wp-content/uploads/2022/09/Books-scaled.jpg
END:VEVENT
BEGIN:VEVENT
DTSTART;TZID=UTC:20230313T080000
DTEND;TZID=UTC:20230317T170000
DTSTAMP:20260423T003518
CREATED:20220916T205531Z
LAST-MODIFIED:20220916T205531Z
UID:2781-1678694400-1679072400@chestertonacademyofottawa.ca
SUMMARY:MARCH BREAK
DESCRIPTION:
URL:https://chestertonacademyofottawa.ca/event/march-break/
LOCATION:Ontario
ATTACH;FMTTYPE=image/jpeg:https://chestertonacademyofottawa.ca/wp-content/uploads/2022/09/study-break-scaled.jpg
END:VEVENT
BEGIN:VEVENT
DTSTART;TZID=UTC:20230316T080000
DTEND;TZID=UTC:20230318T170000
DTSTAMP:20260423T003518
CREATED:20230317T180232Z
LAST-MODIFIED:20230317T180232Z
UID:2978-1678953600-1679158800@chestertonacademyofottawa.ca
SUMMARY:Students visit Our Lady Seat of Wisdom College
DESCRIPTION:
URL:https://chestertonacademyofottawa.ca/event/students-visit-our-lady-seat-of-wisdom-college/
LOCATION:Ontario
CATEGORIES:Event,Past
ATTACH;FMTTYPE=image/jpeg:https://chestertonacademyofottawa.ca/wp-content/uploads/2021/08/Our-Lady-Seat-of-Wisdom.jpg
END:VEVENT
BEGIN:VEVENT
DTSTART;TZID=UTC:20230329T113000
DTEND;TZID=UTC:20230329T131500
DTSTAMP:20260423T003518
CREATED:20230317T175416Z
LAST-MODIFIED:20230402T232837Z
UID:2975-1680089400-1680095700@chestertonacademyofottawa.ca
SUMMARY:DAY OF LENTEN REFLECTION: Adoration\, confession and benediction
DESCRIPTION:
URL:https://chestertonacademyofottawa.ca/event/day-of-lenten-reflection-adoration-confession-and-benediction/
LOCATION:Ontario
CATEGORIES:Past
ATTACH;FMTTYPE=image/jpeg:https://chestertonacademyofottawa.ca/wp-content/uploads/2023/03/adoration-scaled.jpg
END:VEVENT
END:VCALENDAR