BEGIN:VCALENDAR
VERSION:2.0
PRODID:-//Chesterton Academy of Ottawa - ECPv6.15.17.1//NONSGML v1.0//EN
CALSCALE:GREGORIAN
METHOD:PUBLISH
X-ORIGINAL-URL:https://chestertonacademyofottawa.ca
X-WR-CALDESC:Events for Chesterton Academy of Ottawa
REFRESH-INTERVAL;VALUE=DURATION:PT1H
X-Robots-Tag:noindex
X-PUBLISHED-TTL:PT1H
BEGIN:VTIMEZONE
TZID:UTC
BEGIN:STANDARD
TZOFFSETFROM:+0000
TZOFFSETTO:+0000
TZNAME:UTC
DTSTART:20200101T000000
END:STANDARD
END:VTIMEZONE
BEGIN:VTIMEZONE
TZID:America/Toronto
BEGIN:DAYLIGHT
TZOFFSETFROM:-0500
TZOFFSETTO:-0400
TZNAME:EDT
DTSTART:20190310T070000
END:DAYLIGHT
BEGIN:STANDARD
TZOFFSETFROM:-0400
TZOFFSETTO:-0500
TZNAME:EST
DTSTART:20191103T060000
END:STANDARD
BEGIN:DAYLIGHT
TZOFFSETFROM:-0500
TZOFFSETTO:-0400
TZNAME:EDT
DTSTART:20200308T070000
END:DAYLIGHT
BEGIN:STANDARD
TZOFFSETFROM:-0400
TZOFFSETTO:-0500
TZNAME:EST
DTSTART:20201101T060000
END:STANDARD
BEGIN:DAYLIGHT
TZOFFSETFROM:-0500
TZOFFSETTO:-0400
TZNAME:EDT
DTSTART:20210314T070000
END:DAYLIGHT
BEGIN:STANDARD
TZOFFSETFROM:-0400
TZOFFSETTO:-0500
TZNAME:EST
DTSTART:20211107T060000
END:STANDARD
END:VTIMEZONE
BEGIN:VEVENT
DTSTART;VALUE=DATE:20240306
DTEND;VALUE=DATE:20240311
DTSTAMP:20260420T224349
CREATED:20240205T152754Z
LAST-MODIFIED:20240723T152801Z
UID:3130-1709683200-1710115199@chestertonacademyofottawa.ca
SUMMARY:National Latin Exam
DESCRIPTION:
URL:https://chestertonacademyofottawa.ca/event/national-latin-exam/
CATEGORIES:Past
ATTACH;FMTTYPE=image/jpeg:https://chestertonacademyofottawa.ca/wp-content/uploads/2021/09/Jenna-Henry-replacement.jpg
END:VEVENT
BEGIN:VEVENT
DTSTART;TZID=UTC:20231202T180000
DTEND;TZID=UTC:20231202T220000
DTSTAMP:20260420T224349
CREATED:20231106T160241Z
LAST-MODIFIED:20240304T011934Z
UID:3105-1701540000-1701554400@chestertonacademyofottawa.ca
SUMMARY:CHRISTMAS GALA DINNER
DESCRIPTION:St. George’s Church Hall\nRSVP Tickets: $100 includes $75 tax receipt)
URL:https://chestertonacademyofottawa.ca/event/christmas-gala-dinner/
CATEGORIES:Event,Past
ATTACH;FMTTYPE=image/jpeg:https://chestertonacademyofottawa.ca/wp-content/uploads/2023/11/20231105_102109.jpg
END:VEVENT
BEGIN:VEVENT
DTSTART;VALUE=DATE:20231101
DTEND;VALUE=DATE:20240216
DTSTAMP:20260420T224349
CREATED:20230626T153042Z
LAST-MODIFIED:20240304T012003Z
UID:3067-1698796800-1708041599@chestertonacademyofottawa.ca
SUMMARY:Basketball season
DESCRIPTION:
URL:https://chestertonacademyofottawa.ca/event/basketball-season/
CATEGORIES:Event,Past
ATTACH;FMTTYPE=image/jpeg:https://chestertonacademyofottawa.ca/wp-content/uploads/2023/06/basketball-scaled.jpg
END:VEVENT
BEGIN:VEVENT
DTSTART;VALUE=DATE:20230624
DTEND;VALUE=DATE:20230625
DTSTAMP:20260420T224349
CREATED:20220916T210003Z
LAST-MODIFIED:20240222T151855Z
UID:2790-1687564800-1687651199@chestertonacademyofottawa.ca
SUMMARY:Graduation Mass and ceremony
DESCRIPTION:Saturday\, June 24\, 2023\n \n\n9:00 am             Mass at St. George\n10:00 am           Graduation ceremony\n11:30 am           Pictures\n\n1:00 pm – 3:00 pm          Lunch for graduates and teachers only (offsite)\n3:00 pm – 5:00 pm          Bowling for graduates\, alumni and teachers only\n\n6:00 pm             Potluck dinner for Chesterton families (St. George)\n                            Music and family dance\n10:00 pm           End\n10:01 pm           Cleanup\n\nPlease let Alba Pascual (apascual@hotmail.com) know by June 9 whether you are planning to attend the potluck dinner\, and how many people will be attending.
URL:https://chestertonacademyofottawa.ca/event/graduation-mass-and-ceremony/
CATEGORIES:Past
ATTACH;FMTTYPE=image/jpeg:https://chestertonacademyofottawa.ca/wp-content/uploads/2024/02/DSC_4663-scaled.jpg
END:VEVENT
BEGIN:VEVENT
DTSTART;TZID=UTC:20230622T193000
DTEND;TZID=UTC:20230622T210000
DTSTAMP:20260420T224349
CREATED:20230604T233143Z
LAST-MODIFIED:20230626T151342Z
UID:3047-1687462200-1687467600@chestertonacademyofottawa.ca
SUMMARY:ENCORE PERFORMANCE OF ANTIGONE
DESCRIPTION:The Sophocles Greek classic and tragedy written in 400 B.C. Brother kills brother and the fallout is an ensuing struggle between duty to the gods and duty to the king. Featuring Alexander Gay and Angelica Medina. A Chesterton Academy of Ottawa student cast directed by Jenna Henry.               7:30 p.m. – 9 p.m.\nBlessed Sacrament parish hall\n194 Fourth Avenue\, Ottawa
URL:https://chestertonacademyofottawa.ca/event/encore-performance-of-antigone/
CATEGORIES:Event,Past
ATTACH;FMTTYPE=image/jpeg:https://chestertonacademyofottawa.ca/wp-content/uploads/2023/05/IMG_9340.jpeg
END:VEVENT
BEGIN:VEVENT
DTSTART;TZID=UTC:20230517T180000
DTEND;TZID=UTC:20230517T200000
DTSTAMP:20260420T224349
CREATED:20230517T192712Z
LAST-MODIFIED:20230517T192712Z
UID:3019-1684346400-1684353600@chestertonacademyofottawa.ca
SUMMARY:CHESTERTON OPEN HOUSE
DESCRIPTION:
URL:https://chestertonacademyofottawa.ca/event/chesterton-open-house/
CATEGORIES:Event,Past
ATTACH;FMTTYPE=image/jpeg:https://chestertonacademyofottawa.ca/wp-content/uploads/2021/04/Chesterton-131-scaled.jpg
END:VEVENT
BEGIN:VEVENT
DTSTART;VALUE=DATE:20230516
DTEND;VALUE=DATE:20230517
DTSTAMP:20260420T224349
CREATED:20230328T180700Z
LAST-MODIFIED:20231201T205609Z
UID:2986-1684195200-1684281599@chestertonacademyofottawa.ca
SUMMARY:Track and field finals
DESCRIPTION:
URL:https://chestertonacademyofottawa.ca/event/track-and-field-finals/
CATEGORIES:Past
ATTACH;FMTTYPE=image/jpeg:https://chestertonacademyofottawa.ca/wp-content/uploads/2023/05/N-abrahm.jpg
END:VEVENT
BEGIN:VEVENT
DTSTART;VALUE=DATE:20230511
DTEND;VALUE=DATE:20230512
DTSTAMP:20260420T224349
CREATED:20220916T205835Z
LAST-MODIFIED:20230517T192902Z
UID:2787-1683763200-1683849599@chestertonacademyofottawa.ca
SUMMARY:March For Life
DESCRIPTION:
URL:https://chestertonacademyofottawa.ca/event/march-for-life/
CATEGORIES:Past
ATTACH;FMTTYPE=image/jpeg:https://chestertonacademyofottawa.ca/wp-content/uploads/2022/09/March-for-life-2022.jpg
END:VEVENT
BEGIN:VEVENT
DTSTART;TZID=UTC:20230427T193000
DTEND;TZID=UTC:20230427T210000
DTSTAMP:20260420T224349
CREATED:20230309T000508Z
LAST-MODIFIED:20230517T192924Z
UID:2910-1682623800-1682629200@chestertonacademyofottawa.ca
SUMMARY:DRAMA SHOWCASE: ANTIGONE
DESCRIPTION:Doors open at 7 p.m. \nBrother attacks brother.  Brothers are killed. Many more die.  There’s a suicide too and consternation over what to do with the body of the bad boy brother. A 2\,000-year-old play that goes down like Spanish wine.  Greek tragedy at its finest!
URL:https://chestertonacademyofottawa.ca/event/drama-showcase-antigone/
CATEGORIES:Past
ATTACH;FMTTYPE=image/jpeg:https://chestertonacademyofottawa.ca/wp-content/uploads/2023/03/Antigone-1.jpeg
END:VEVENT
BEGIN:VEVENT
DTSTART;TZID=UTC:20230329T113000
DTEND;TZID=UTC:20230329T131500
DTSTAMP:20260420T224349
CREATED:20230317T175416Z
LAST-MODIFIED:20230402T232837Z
UID:2975-1680089400-1680095700@chestertonacademyofottawa.ca
SUMMARY:DAY OF LENTEN REFLECTION: Adoration\, confession and benediction
DESCRIPTION:
URL:https://chestertonacademyofottawa.ca/event/day-of-lenten-reflection-adoration-confession-and-benediction/
CATEGORIES:Past
ATTACH;FMTTYPE=image/jpeg:https://chestertonacademyofottawa.ca/wp-content/uploads/2023/03/adoration-scaled.jpg
END:VEVENT
BEGIN:VEVENT
DTSTART;TZID=UTC:20230316T080000
DTEND;TZID=UTC:20230318T170000
DTSTAMP:20260420T224349
CREATED:20230317T180232Z
LAST-MODIFIED:20230317T180232Z
UID:2978-1678953600-1679158800@chestertonacademyofottawa.ca
SUMMARY:Students visit Our Lady Seat of Wisdom College
DESCRIPTION:
URL:https://chestertonacademyofottawa.ca/event/students-visit-our-lady-seat-of-wisdom-college/
CATEGORIES:Event,Past
ATTACH;FMTTYPE=image/jpeg:https://chestertonacademyofottawa.ca/wp-content/uploads/2021/08/Our-Lady-Seat-of-Wisdom.jpg
END:VEVENT
BEGIN:VEVENT
DTSTART;TZID=UTC:20230220T090000
DTEND;TZID=UTC:20230220T140000
DTSTAMP:20260420T224349
CREATED:20230119T014101Z
LAST-MODIFIED:20230309T001200Z
UID:2881-1676883600-1676901600@chestertonacademyofottawa.ca
SUMMARY:DAY TOUR: House of Commons\, Supreme Court of Canada and the Senate
DESCRIPTION:
URL:https://chestertonacademyofottawa.ca/event/day-tour-house-of-commons-supreme-court-of-canada-and-the-senate/
CATEGORIES:Event,Past
ATTACH;FMTTYPE=image/jpeg:https://chestertonacademyofottawa.ca/wp-content/uploads/2023/01/parliament.jpg
END:VEVENT
BEGIN:VEVENT
DTSTART;VALUE=DATE:20230201
DTEND;VALUE=DATE:20230202
DTSTAMP:20260420T224349
CREATED:20230115T120531Z
LAST-MODIFIED:20230309T001306Z
UID:2817-1675209600-1675295999@chestertonacademyofottawa.ca
SUMMARY:Annual Chesterton Skateway Challenge
DESCRIPTION:Students will skate the entire length of the Rideau Canal\, the world’s longest natural ice rink\, starting at Dow’s Lake in Ottawa. Students will skate 15.6  kilometres\, the entire length and back of this UNESCO world heritage site. You can support the students in this fundraiser by donating to Chesterton Academy of Ottawa by clicking on the “Donate Now” button on this website.
URL:https://chestertonacademyofottawa.ca/event/annual-chesterton-skateway-challenge/
CATEGORIES:Event,Past
ATTACH;FMTTYPE=image/jpeg:https://chestertonacademyofottawa.ca/wp-content/uploads/2023/01/ice-skating-scaled.jpg
END:VEVENT
BEGIN:VEVENT
DTSTART;VALUE=DATE:20221206
DTEND;VALUE=DATE:20221207
DTSTAMP:20260420T224349
CREATED:20220916T205017Z
LAST-MODIFIED:20230115T193124Z
UID:2772-1670284800-1670371199@chestertonacademyofottawa.ca
SUMMARY:Cookie Exchange
DESCRIPTION:
URL:https://chestertonacademyofottawa.ca/event/cookie-exchange/
CATEGORIES:Event,Past
ATTACH;FMTTYPE=image/jpeg:https://chestertonacademyofottawa.ca/wp-content/uploads/2022/09/Cookie-exchange-scaled.jpg
END:VEVENT
BEGIN:VEVENT
DTSTART;VALUE=DATE:20220928
DTEND;VALUE=DATE:20220929
DTSTAMP:20260420T224349
CREATED:20220915T203240Z
LAST-MODIFIED:20230115T193716Z
UID:2766-1664323200-1664409599@chestertonacademyofottawa.ca
SUMMARY:Soccer tournament
DESCRIPTION:
URL:https://chestertonacademyofottawa.ca/event/soccer-tournament/
CATEGORIES:Past
ATTACH;FMTTYPE=image/jpeg:https://chestertonacademyofottawa.ca/wp-content/uploads/2022/09/2022-soccer-team-1.jpg
END:VEVENT
BEGIN:VEVENT
DTSTART;VALUE=DATE:20220625
DTEND;VALUE=DATE:20220626
DTSTAMP:20260420T224349
CREATED:20230114T125249Z
LAST-MODIFIED:20230115T204120Z
UID:2835-1656115200-1656201599@chestertonacademyofottawa.ca
SUMMARY:Chesterton Graduation Day
DESCRIPTION:
URL:https://chestertonacademyofottawa.ca/event/chesterton-graduation-day/
CATEGORIES:Past
ATTACH;FMTTYPE=image/jpeg:https://chestertonacademyofottawa.ca/wp-content/uploads/2023/01/P1000482-B.jpg
END:VEVENT
BEGIN:VEVENT
DTSTART;VALUE=DATE:20220526
DTEND;VALUE=DATE:20220527
DTSTAMP:20260420T224349
CREATED:20230114T204326Z
LAST-MODIFIED:20230115T204750Z
UID:2846-1653523200-1653609599@chestertonacademyofottawa.ca
SUMMARY:Chesterton Presents: A Midsummer Night's Dream and Dear Lottie
DESCRIPTION:
URL:https://chestertonacademyofottawa.ca/event/chesterton-presents-a-midsummer-nights-dream-and-dear-lottie/
CATEGORIES:Event,Past
ATTACH;FMTTYPE=image/png:https://chestertonacademyofottawa.ca/wp-content/uploads/2023/01/group5.png
END:VEVENT
BEGIN:VEVENT
DTSTART;TZID=UTC:20211022T080000
DTEND;TZID=UTC:20211022T170000
DTSTAMP:20260420T224349
CREATED:20211022T200226Z
LAST-MODIFIED:20230119T023537Z
UID:2839-1634889600-1634922000@chestertonacademyofottawa.ca
SUMMARY:Chesterton Academy wins Ottawa soccer tournament
DESCRIPTION:
URL:https://chestertonacademyofottawa.ca/event/chesterton-academy-wins-ottawa-private-school-soccer-tournament/
CATEGORIES:Past
ATTACH;FMTTYPE=image/jpeg:https://chestertonacademyofottawa.ca/wp-content/uploads/2023/01/Team-shotjumping-high-res-scaled.jpg
END:VEVENT
BEGIN:VEVENT
DTSTART;VALUE=DATE:20211006
DTEND;VALUE=DATE:20211007
DTSTAMP:20260420T224349
CREATED:20211001T193851Z
LAST-MODIFIED:20211008T143126Z
UID:2668-1633478400-1633564799@chestertonacademyofottawa.ca
SUMMARY:Chesterton soccer team wins season opener 8-3
DESCRIPTION:OTTAWA — The Chesterton Academy of Ottawa soccer team dominated in an 8-3 victory over St. Laurent Academy in the season opener at the RA Centre Oct. 6. Joseph Pocrnic scored 4 \, Nicholas Pascual-Meagher scored 3 and Alexander Doak scored 1. Fionn Stackbauer was a solid starting goaltender for Chesterton. “He played like a boss\,” Pascual-Meagher said. \nIt was a double-header day as Chesterton also took on Calvary Christian Academy and was up 2-0 early in the first half until tragedy struck. Pascual-Meagher\, who was on fire in the early minutes\, plummeted to the ground and stayed there. He was helped off the field and was later taken to hospital for X-rays on advice of the team physician. Pascual-Meagher suffered an ankle tear and will be out for at least two weeks\, his doctor said.  Chesterton lost its momentum after the alarming injury and the score was tied 2-2 at the half.  It was a nail biter and Calvary Christian scored late in the game to eke out a 3-2 win. \n 
URL:https://chestertonacademyofottawa.ca/event/ottawa-high-school-soccer-tournament/
CATEGORIES:Past
ATTACH;FMTTYPE=image/jpeg:https://chestertonacademyofottawa.ca/wp-content/uploads/2021/10/Nico-at-soccer-game.jpg
END:VEVENT
BEGIN:VEVENT
DTSTART;VALUE=DATE:20210724
DTEND;VALUE=DATE:20210725
DTSTAMP:20260420T224349
CREATED:20210416T195815Z
LAST-MODIFIED:20240312T011407Z
UID:2463-1627084800-1627171199@chestertonacademyofottawa.ca
SUMMARY:Chesterton's first graduating class
DESCRIPTION:The first graduating class of Chesterton Academy of Ottawa.
URL:https://chestertonacademyofottawa.ca/event/chestertons-first-graduating-class/
CATEGORIES:Past
ATTACH;FMTTYPE=image/jpeg:https://chestertonacademyofottawa.ca/wp-content/uploads/2021/08/01-the-fab-four.jpg
END:VEVENT
BEGIN:VEVENT
DTSTART;VALUE=DATE:20210618
DTEND;VALUE=DATE:20210619
DTSTAMP:20260420T224349
CREATED:20210416T202033Z
LAST-MODIFIED:20210626T201333Z
UID:2466-1623974400-1624060799@chestertonacademyofottawa.ca
SUMMARY:Last day of class
DESCRIPTION:
URL:https://chestertonacademyofottawa.ca/event/last-day-of-class/
CATEGORIES:Past
ATTACH;FMTTYPE=image/jpeg:https://chestertonacademyofottawa.ca/wp-content/uploads/2021/04/Big-group-photo-right-scaled.jpg
END:VEVENT
BEGIN:VEVENT
DTSTART;VALUE=DATE:20210529
DTEND;VALUE=DATE:20210530
DTSTAMP:20260420T224349
CREATED:20210529T200248Z
LAST-MODIFIED:20210626T201524Z
UID:2548-1622246400-1622332799@chestertonacademyofottawa.ca
SUMMARY:Chesterton's chess champion Alex Gay
DESCRIPTION:
URL:https://chestertonacademyofottawa.ca/event/chestertons-chess-champion-alex-gay/
CATEGORIES:Past
ATTACH;FMTTYPE=image/jpeg:https://chestertonacademyofottawa.ca/wp-content/uploads/2021/06/Alex-Gay-chess-champion-scaled.jpg
END:VEVENT
BEGIN:VEVENT
DTSTART;VALUE=DATE:20210412
DTEND;VALUE=DATE:20210413
DTSTAMP:20260420T224349
CREATED:20210416T191047Z
LAST-MODIFIED:20210416T211401Z
UID:2446-1618185600-1618271999@chestertonacademyofottawa.ca
SUMMARY:Students launch Chesterton Gazette
DESCRIPTION:Editor Angelica Medina displays the first edition of the student online newspaper.
URL:https://chestertonacademyofottawa.ca/event/students-launch-chesterton-gazette/
CATEGORIES:Past
ATTACH;FMTTYPE=image/jpeg:https://chestertonacademyofottawa.ca/wp-content/uploads/2021/04/Editor.jpg
END:VEVENT
BEGIN:VEVENT
DTSTART;VALUE=DATE:20210401
DTEND;VALUE=DATE:20210402
DTSTAMP:20260420T224349
CREATED:20210416T191758Z
LAST-MODIFIED:20210419T175116Z
UID:2449-1617235200-1617321599@chestertonacademyofottawa.ca
SUMMARY:Grade 9 math student finishes in top 5 in Ottawa area
DESCRIPTION:Grade 9 student Edouard Allaire competed in the University of Waterloo math competition and ranked 5th for the Ottawa area.
URL:https://chestertonacademyofottawa.ca/event/grade-9-math-student-finishes-in-top-5-in-ottawa-area/
CATEGORIES:Past
ATTACH;FMTTYPE=image/jpeg:https://chestertonacademyofottawa.ca/wp-content/uploads/2021/04/edourd-for-website-1.jpg
END:VEVENT
BEGIN:VEVENT
DTSTART;VALUE=DATE:20210318
DTEND;VALUE=DATE:20210319
DTSTAMP:20260420T224349
CREATED:20210413T212502Z
LAST-MODIFIED:20210416T200434Z
UID:2383-1616025600-1616111999@chestertonacademyofottawa.ca
SUMMARY:School table tennis champion
DESCRIPTION:Nicholas Pascual-Meagher competed against 16 other students to win the Chesterton 2021 table tennis championship.
URL:https://chestertonacademyofottawa.ca/event/school-table-tennis-champion/
LOCATION:St George’s Parish\, 415 Piccadilly Ave\, Ottawa\, Ontario\, Canada
CATEGORIES:Past
ATTACH;FMTTYPE=image/jpeg:https://chestertonacademyofottawa.ca/wp-content/uploads/2021/04/piong-pong-champ1.jpg
END:VEVENT
BEGIN:VEVENT
DTSTART;VALUE=DATE:20210226
DTEND;VALUE=DATE:20210227
DTSTAMP:20260420T224349
CREATED:20210416T192948Z
LAST-MODIFIED:20210417T142434Z
UID:2457-1614297600-1614383999@chestertonacademyofottawa.ca
SUMMARY:Students take on world's longest naturally-frozen skating rink
DESCRIPTION:It was a skate-a-thon to remember as students skated the length (7.8 kilometres) of the Ottawa Canal and back again. The frozen canal is the world’s longest naturally frozen skating rink.
URL:https://chestertonacademyofottawa.ca/event/skate-a-thon/
CATEGORIES:Past
ATTACH;FMTTYPE=image/jpeg:https://chestertonacademyofottawa.ca/wp-content/uploads/2021/04/skate-a-thon.jpg
END:VEVENT
BEGIN:VEVENT
DTSTART;VALUE=DATE:20201206
DTEND;VALUE=DATE:20201207
DTSTAMP:20260420T224349
CREATED:20201203T030053Z
LAST-MODIFIED:20210416T233537Z
UID:2365-1607212800-1607299199@chestertonacademyofottawa.ca
SUMMARY:Virtual bake sale sells out
DESCRIPTION:Chesterton Academy students and their families sold more than 175 baked goods and other food items in an innovative virtual bake sale that even offered home delivery. The Burns family  baked an extraordinary 36 tourtieres.
URL:https://chestertonacademyofottawa.ca/event/virtual-bake-sale/
CATEGORIES:Past
ATTACH;FMTTYPE=image/jpeg:https://chestertonacademyofottawa.ca/wp-content/uploads/2020/12/Virtual-bake-sale-2020.jpg
END:VEVENT
END:VCALENDAR