BEGIN:VCALENDAR
VERSION:2.0
PRODID:-//Chesterton Academy of Ottawa - ECPv6.15.17.1//NONSGML v1.0//EN
CALSCALE:GREGORIAN
METHOD:PUBLISH
X-ORIGINAL-URL:https://chestertonacademyofottawa.ca
X-WR-CALDESC:Events for Chesterton Academy of Ottawa
REFRESH-INTERVAL;VALUE=DURATION:PT1H
X-Robots-Tag:noindex
X-PUBLISHED-TTL:PT1H
BEGIN:VTIMEZONE
TZID:UTC
BEGIN:STANDARD
TZOFFSETFROM:+0000
TZOFFSETTO:+0000
TZNAME:UTC
DTSTART:20230101T000000
END:STANDARD
END:VTIMEZONE
BEGIN:VEVENT
DTSTART;VALUE=DATE:20240512
DTEND;VALUE=DATE:20240513
DTSTAMP:20260421T234927
CREATED:20240406T195400Z
LAST-MODIFIED:20240723T152657Z
UID:3187-1715472000-1715558399@chestertonacademyofottawa.ca
SUMMARY:CHOIR CONCERT  7:30 p.m.
DESCRIPTION:Annunciation of The Lord \nCatholic Church in Ottawa \n2414 Ogilvie Road\, Gloucester\, Ontario
URL:https://chestertonacademyofottawa.ca/event/choir-concert/
LOCATION:Ontario
CATEGORIES:Past
ATTACH;FMTTYPE=image/jpeg:https://chestertonacademyofottawa.ca/wp-content/uploads/2024/04/choir.jpg
END:VEVENT
END:VCALENDAR