BEGIN:VCALENDAR
VERSION:2.0
PRODID:-//Chesterton Academy of Ottawa - ECPv6.15.17.1//NONSGML v1.0//EN
CALSCALE:GREGORIAN
METHOD:PUBLISH
X-ORIGINAL-URL:https://chestertonacademyofottawa.ca
X-WR-CALDESC:Events for Chesterton Academy of Ottawa
REFRESH-INTERVAL;VALUE=DURATION:PT1H
X-Robots-Tag:noindex
X-PUBLISHED-TTL:PT1H
BEGIN:VTIMEZONE
TZID:UTC
BEGIN:STANDARD
TZOFFSETFROM:+0000
TZOFFSETTO:+0000
TZNAME:UTC
DTSTART:20230101T000000
END:STANDARD
END:VTIMEZONE
BEGIN:VEVENT
DTSTART;TZID=UTC:20240629T090000
DTEND;TZID=UTC:20240629T220000
DTSTAMP:20260421T210629
CREATED:20240205T145306Z
LAST-MODIFIED:20240723T152605Z
UID:3117-1719651600-1719698400@chestertonacademyofottawa.ca
SUMMARY:Chesterton Graduation Mass and Ceremony
DESCRIPTION:
URL:https://chestertonacademyofottawa.ca/event/chesterton-graduation-mass-and-ceremony/
LOCATION:Ontario
CATEGORIES:Past
ATTACH;FMTTYPE=image/png:https://chestertonacademyofottawa.ca/wp-content/uploads/2022/09/image-1.png
END:VEVENT
END:VCALENDAR