BEGIN:VCALENDAR
VERSION:2.0
PRODID:-//Chesterton Academy of Ottawa - ECPv6.15.17.1//NONSGML v1.0//EN
CALSCALE:GREGORIAN
METHOD:PUBLISH
X-WR-CALNAME:Chesterton Academy of Ottawa
X-ORIGINAL-URL:https://chestertonacademyofottawa.ca
X-WR-CALDESC:Events for Chesterton Academy of Ottawa
REFRESH-INTERVAL;VALUE=DURATION:PT1H
X-Robots-Tag:noindex
X-PUBLISHED-TTL:PT1H
BEGIN:VTIMEZONE
TZID:UTC
BEGIN:STANDARD
TZOFFSETFROM:+0000
TZOFFSETTO:+0000
TZNAME:UTC
DTSTART:20230101T000000
END:STANDARD
END:VTIMEZONE
BEGIN:VEVENT
DTSTART;TZID=UTC:20240509T090000
DTEND;TZID=UTC:20240509T150000
DTSTAMP:20260421T222233
CREATED:20240205T153219Z
LAST-MODIFIED:20240723T152725Z
UID:3133-1715245200-1715266800@chestertonacademyofottawa.ca
SUMMARY:March for Life (Parliament Hill\, Ottawa)
DESCRIPTION:
URL:https://chestertonacademyofottawa.ca/event/march-for-life-parliament-hill-ottawa/
LOCATION:Ontario
CATEGORIES:Past
ATTACH;FMTTYPE=image/jpeg:https://chestertonacademyofottawa.ca/wp-content/uploads/2024/02/vero-nico-at-million-march.jpg
END:VEVENT
BEGIN:VEVENT
DTSTART;TZID=UTC:20240510T080000
DTEND;TZID=UTC:20240510T170000
DTSTAMP:20260421T222233
CREATED:20240305T162945Z
LAST-MODIFIED:20240723T152718Z
UID:3175-1715328000-1715360400@chestertonacademyofottawa.ca
SUMMARY:Montreal Oratory pilgrimage
DESCRIPTION:Grade 12 day pilgrimage to Montreal
URL:https://chestertonacademyofottawa.ca/event/montreal-oratory-pilgrimage/
LOCATION:Ontario
CATEGORIES:Past
ATTACH;FMTTYPE=image/jpeg:https://chestertonacademyofottawa.ca/wp-content/uploads/2024/03/oratoire-st-joseph-1232684.jpg
END:VEVENT
BEGIN:VEVENT
DTSTART;VALUE=DATE:20240512
DTEND;VALUE=DATE:20240513
DTSTAMP:20260421T222233
CREATED:20240406T195400Z
LAST-MODIFIED:20240723T152657Z
UID:3187-1715472000-1715558399@chestertonacademyofottawa.ca
SUMMARY:CHOIR CONCERT  7:30 p.m.
DESCRIPTION:Annunciation of The Lord \nCatholic Church in Ottawa \n2414 Ogilvie Road\, Gloucester\, Ontario
URL:https://chestertonacademyofottawa.ca/event/choir-concert/
LOCATION:Ontario
CATEGORIES:Past
ATTACH;FMTTYPE=image/jpeg:https://chestertonacademyofottawa.ca/wp-content/uploads/2024/04/choir.jpg
END:VEVENT
BEGIN:VEVENT
DTSTART;VALUE=DATE:20240521
DTEND;VALUE=DATE:20240522
DTSTAMP:20260421T222233
CREATED:20240304T010513Z
LAST-MODIFIED:20240723T152638Z
UID:3167-1716249600-1716335999@chestertonacademyofottawa.ca
SUMMARY:Track and Field Day
DESCRIPTION:Chesterton students to compete in eight different events at annual Ottawa private school track meet. \nTerry Fox Athletic Facility\, 2960 Riverside Drive\, Ottawa\, Ontario
URL:https://chestertonacademyofottawa.ca/event/track-and-field-day/
LOCATION:Ontario
CATEGORIES:Past
ATTACH;FMTTYPE=image/jpeg:https://chestertonacademyofottawa.ca/wp-content/uploads/2024/03/track-meet.jpg
END:VEVENT
END:VCALENDAR