BEGIN:VCALENDAR
VERSION:2.0
PRODID:-//Chesterton Academy of Ottawa - ECPv6.15.17.1//NONSGML v1.0//EN
CALSCALE:GREGORIAN
METHOD:PUBLISH
X-WR-CALNAME:Chesterton Academy of Ottawa
X-ORIGINAL-URL:https://chestertonacademyofottawa.ca
X-WR-CALDESC:Events for Chesterton Academy of Ottawa
REFRESH-INTERVAL;VALUE=DURATION:PT1H
X-Robots-Tag:noindex
X-PUBLISHED-TTL:PT1H
BEGIN:VTIMEZONE
TZID:UTC
BEGIN:STANDARD
TZOFFSETFROM:+0000
TZOFFSETTO:+0000
TZNAME:UTC
DTSTART:20230101T000000
END:STANDARD
END:VTIMEZONE
BEGIN:VEVENT
DTSTART;TZID=UTC:20240621T090000
DTEND;TZID=UTC:20240621T150000
DTSTAMP:20260421T155441
CREATED:20240205T154036Z
LAST-MODIFIED:20240205T154036Z
UID:3136-1718960400-1718982000@chestertonacademyofottawa.ca
SUMMARY:Last day of classes: Mass and picnic
DESCRIPTION:
URL:https://chestertonacademyofottawa.ca/event/last-day-of-classes-mass-and-picnic/
LOCATION:Ontario
CATEGORIES:Event
ATTACH;FMTTYPE=image/jpeg:https://chestertonacademyofottawa.ca/wp-content/uploads/2024/02/DSC_2067-scaled.jpg
END:VEVENT
END:VCALENDAR