BEGIN:VCALENDAR
VERSION:2.0
PRODID:-//Chesterton Academy of Ottawa - ECPv6.15.17.1//NONSGML v1.0//EN
CALSCALE:GREGORIAN
METHOD:PUBLISH
X-ORIGINAL-URL:https://chestertonacademyofottawa.ca
X-WR-CALDESC:Events for Chesterton Academy of Ottawa
REFRESH-INTERVAL;VALUE=DURATION:PT1H
X-Robots-Tag:noindex
X-PUBLISHED-TTL:PT1H
BEGIN:VTIMEZONE
TZID:UTC
BEGIN:STANDARD
TZOFFSETFROM:+0000
TZOFFSETTO:+0000
TZNAME:UTC
DTSTART:20220101T000000
END:STANDARD
END:VTIMEZONE
BEGIN:VEVENT
DTSTART;VALUE=DATE:20230911
DTEND;VALUE=DATE:20231104
DTSTAMP:20260415T185507
CREATED:20230626T152525Z
LAST-MODIFIED:20230626T154856Z
UID:3061-1694390400-1699055999@chestertonacademyofottawa.ca
SUMMARY:Soccer season
DESCRIPTION:
URL:https://chestertonacademyofottawa.ca/event/soccer-begins/
LOCATION:Ontario
CATEGORIES:Event
ATTACH;FMTTYPE=image/jpeg:https://chestertonacademyofottawa.ca/wp-content/uploads/2023/06/soccer2-scaled.jpg
END:VEVENT
END:VCALENDAR