BEGIN:VCALENDAR
VERSION:2.0
PRODID:-//Chesterton Academy of Ottawa - ECPv6.15.17.1//NONSGML v1.0//EN
CALSCALE:GREGORIAN
METHOD:PUBLISH
X-WR-CALNAME:Chesterton Academy of Ottawa
X-ORIGINAL-URL:https://chestertonacademyofottawa.ca
X-WR-CALDESC:Events for Chesterton Academy of Ottawa
REFRESH-INTERVAL;VALUE=DURATION:PT1H
X-Robots-Tag:noindex
X-PUBLISHED-TTL:PT1H
BEGIN:VTIMEZONE
TZID:UTC
BEGIN:STANDARD
TZOFFSETFROM:+0000
TZOFFSETTO:+0000
TZNAME:UTC
DTSTART:20210101T000000
END:STANDARD
END:VTIMEZONE
BEGIN:VEVENT
DTSTART;TZID=UTC:20220312T080000
DTEND;TZID=UTC:20220320T170000
DTSTAMP:20260423T053737
CREATED:20211007T201254Z
LAST-MODIFIED:20211007T201254Z
UID:2682-1647072000-1647795600@chestertonacademyofottawa.ca
SUMMARY:Chesterton students head to Rome or Portugal
DESCRIPTION:Graduation trip for Grades 11 and 12 in all Chesterton Academy Network schools will include Rome or Portugal.  The destination and dates have yet to be determined and will depend on COVID rules. Chesterton Academy Network of schools plans graduation trips every two years.
URL:https://chestertonacademyofottawa.ca/event/chesterton-students-head-to-rome-or-portugal/
LOCATION:Ontario
CATEGORIES:Event
ATTACH;FMTTYPE=image/jpeg:https://chestertonacademyofottawa.ca/wp-content/uploads/2021/10/Rome.jpg
END:VEVENT
END:VCALENDAR