BEGIN:VCALENDAR
VERSION:2.0
PRODID:-//Chesterton Academy of Ottawa - ECPv6.15.17.1//NONSGML v1.0//EN
CALSCALE:GREGORIAN
METHOD:PUBLISH
X-ORIGINAL-URL:https://chestertonacademyofottawa.ca
X-WR-CALDESC:Events for Chesterton Academy of Ottawa
REFRESH-INTERVAL;VALUE=DURATION:PT1H
X-Robots-Tag:noindex
X-PUBLISHED-TTL:PT1H
BEGIN:VTIMEZONE
TZID:UTC
BEGIN:STANDARD
TZOFFSETFROM:+0000
TZOFFSETTO:+0000
TZNAME:UTC
DTSTART:20200101T000000
END:STANDARD
END:VTIMEZONE
BEGIN:VEVENT
DTSTART;TZID=UTC:20210911T120000
DTEND;TZID=UTC:20210911T170000
DTSTAMP:20260423T113041
CREATED:20210807T180639Z
LAST-MODIFIED:20210808T000838Z
UID:2563-1631361600-1631379600@chestertonacademyofottawa.ca
SUMMARY:"WELCOME TO CHESTERTON" BBQ
DESCRIPTION:Saturday\, Sept. 11 \n  \nChesterton BBQ \n  \n1602 Balena Ave. Ottawa
URL:https://chestertonacademyofottawa.ca/event/welcome-to-chesterton-bbq/
LOCATION:Ontario
CATEGORIES:Event
ATTACH;FMTTYPE=image/jpeg:https://chestertonacademyofottawa.ca/wp-content/uploads/2021/08/bbq.jpg
END:VEVENT
END:VCALENDAR