BEGIN:VCALENDAR
VERSION:2.0
PRODID:-//Chesterton Academy of Ottawa - ECPv6.15.17.1//NONSGML v1.0//EN
CALSCALE:GREGORIAN
METHOD:PUBLISH
X-WR-CALNAME:Chesterton Academy of Ottawa
X-ORIGINAL-URL:https://chestertonacademyofottawa.ca
X-WR-CALDESC:Events for Chesterton Academy of Ottawa
REFRESH-INTERVAL;VALUE=DURATION:PT1H
X-Robots-Tag:noindex
X-PUBLISHED-TTL:PT1H
BEGIN:VTIMEZONE
TZID:UTC
BEGIN:STANDARD
TZOFFSETFROM:+0000
TZOFFSETTO:+0000
TZNAME:UTC
DTSTART:20200101T000000
END:STANDARD
END:VTIMEZONE
BEGIN:VEVENT
DTSTART;TZID=UTC:20210724T090000
DTEND;TZID=UTC:20210724T170000
DTSTAMP:20260423T135304
CREATED:20210716T180027Z
LAST-MODIFIED:20210716T180127Z
UID:2558-1627117200-1627146000@chestertonacademyofottawa.ca
SUMMARY:Graduation day and celebration of school's first graduates
DESCRIPTION:
URL:https://chestertonacademyofottawa.ca/event/graduation-day-and-celebration-for-schools-first-graduates/
LOCATION:Ontario
CATEGORIES:Event
ATTACH;FMTTYPE=image/jpeg:https://chestertonacademyofottawa.ca/wp-content/uploads/2021/07/download-1.jpg
END:VEVENT
END:VCALENDAR