BEGIN:VCALENDAR
VERSION:2.0
PRODID:-//Chesterton Academy of Ottawa - ECPv6.15.17.1//NONSGML v1.0//EN
CALSCALE:GREGORIAN
METHOD:PUBLISH
X-WR-CALNAME:Chesterton Academy of Ottawa
X-ORIGINAL-URL:https://chestertonacademyofottawa.ca
X-WR-CALDESC:Events for Chesterton Academy of Ottawa
REFRESH-INTERVAL;VALUE=DURATION:PT1H
X-Robots-Tag:noindex
X-PUBLISHED-TTL:PT1H
BEGIN:VTIMEZONE
TZID:UTC
BEGIN:STANDARD
TZOFFSETFROM:+0000
TZOFFSETTO:+0000
TZNAME:UTC
DTSTART:20230101T000000
END:STANDARD
END:VTIMEZONE
BEGIN:VEVENT
DTSTART;VALUE=DATE:20240903
DTEND;VALUE=DATE:20240904
DTSTAMP:20260421T105050
CREATED:20240723T154409Z
LAST-MODIFIED:20240723T154409Z
UID:3327-1725321600-1725407999@chestertonacademyofottawa.ca
SUMMARY:First day of school
DESCRIPTION:
URL:https://chestertonacademyofottawa.ca/event/first-day-of-school-3/
LOCATION:Ontario
CATEGORIES:Event
ATTACH;FMTTYPE=image/jpeg:https://chestertonacademyofottawa.ca/wp-content/uploads/2024/07/Gang1b-scaled.jpg
END:VEVENT
BEGIN:VEVENT
DTSTART;VALUE=DATE:20240928
DTEND;VALUE=DATE:20240929
DTSTAMP:20260421T105050
CREATED:20240406T195703Z
LAST-MODIFIED:20240406T195743Z
UID:3190-1727481600-1727567999@chestertonacademyofottawa.ca
SUMMARY:HIKE-A-THON
DESCRIPTION:
URL:https://chestertonacademyofottawa.ca/event/hike-a-thon-2/
LOCATION:Ontario
CATEGORIES:Event
ATTACH;FMTTYPE=image/jpeg:https://chestertonacademyofottawa.ca/wp-content/uploads/2021/08/hiking-2021.jpg
END:VEVENT
END:VCALENDAR