BEGIN:VCALENDAR
VERSION:2.0
PRODID:-//Chesterton Academy of Ottawa - ECPv6.15.17.1//NONSGML v1.0//EN
CALSCALE:GREGORIAN
METHOD:PUBLISH
X-WR-CALNAME:Chesterton Academy of Ottawa
X-ORIGINAL-URL:https://chestertonacademyofottawa.ca
X-WR-CALDESC:Events for Chesterton Academy of Ottawa
REFRESH-INTERVAL;VALUE=DURATION:PT1H
X-Robots-Tag:noindex
X-PUBLISHED-TTL:PT1H
BEGIN:VTIMEZONE
TZID:UTC
BEGIN:STANDARD
TZOFFSETFROM:+0000
TZOFFSETTO:+0000
TZNAME:UTC
DTSTART:20220101T000000
END:STANDARD
END:VTIMEZONE
BEGIN:VEVENT
DTSTART;VALUE=DATE:20231101
DTEND;VALUE=DATE:20240216
DTSTAMP:20260421T200826
CREATED:20230626T153042Z
LAST-MODIFIED:20240304T012003Z
UID:3067-1698796800-1708041599@chestertonacademyofottawa.ca
SUMMARY:Basketball season
DESCRIPTION:
URL:https://chestertonacademyofottawa.ca/event/basketball-season/
LOCATION:Ontario
CATEGORIES:Event,Past
ATTACH;FMTTYPE=image/jpeg:https://chestertonacademyofottawa.ca/wp-content/uploads/2023/06/basketball-scaled.jpg
END:VEVENT
BEGIN:VEVENT
DTSTART;VALUE=DATE:20231115
DTEND;VALUE=DATE:20240210
DTSTAMP:20260421T200826
CREATED:20230626T153416Z
LAST-MODIFIED:20230626T154700Z
UID:3070-1700006400-1707523199@chestertonacademyofottawa.ca
SUMMARY:Girls' Volleyball season
DESCRIPTION:
URL:https://chestertonacademyofottawa.ca/event/girls-volleyball-season/
LOCATION:Ontario
CATEGORIES:Event
ATTACH;FMTTYPE=image/jpeg:https://chestertonacademyofottawa.ca/wp-content/uploads/2023/06/volleyball-scaled.jpg
END:VEVENT
BEGIN:VEVENT
DTSTART;TZID=UTC:20240210T070000
DTEND;TZID=UTC:20240210T083000
DTSTAMP:20260421T200826
CREATED:20240205T162057Z
LAST-MODIFIED:20240205T162057Z
UID:3143-1707548400-1707553800@chestertonacademyofottawa.ca
SUMMARY:St. Mary's Men's Breakfast special speaker: Deacon Dave Mulcair
DESCRIPTION:Deacon Dave Mulcair spent 37 years in the Canadian military before becoming a deacon of the Catholic Church. He teaches Salvation History at Chesterton Academy of Ottawa. $10 at the door. RSVP at breakfastformen@gmail.com.
URL:https://chestertonacademyofottawa.ca/event/st-marys-mens-breakfast-special-speaker-deacon-dave-mulcair/
LOCATION:Ontario
CATEGORIES:Event
ATTACH;FMTTYPE=image/jpeg:https://chestertonacademyofottawa.ca/wp-content/uploads/2024/02/Dave-Mulcair.jpg
END:VEVENT
END:VCALENDAR