BEGIN:VCALENDAR
VERSION:2.0
PRODID:-//Chesterton Academy of Ottawa - ECPv6.15.17.1//NONSGML v1.0//EN
CALSCALE:GREGORIAN
METHOD:PUBLISH
X-ORIGINAL-URL:https://chestertonacademyofottawa.ca
X-WR-CALDESC:Events for Chesterton Academy of Ottawa
REFRESH-INTERVAL;VALUE=DURATION:PT1H
X-Robots-Tag:noindex
X-PUBLISHED-TTL:PT1H
BEGIN:VTIMEZONE
TZID:UTC
BEGIN:STANDARD
TZOFFSETFROM:+0000
TZOFFSETTO:+0000
TZNAME:UTC
DTSTART:20220101T000000
END:STANDARD
END:VTIMEZONE
BEGIN:VEVENT
DTSTART;TZID=UTC:20230622T193000
DTEND;TZID=UTC:20230622T210000
DTSTAMP:20260422T070552
CREATED:20230604T233143Z
LAST-MODIFIED:20230626T151342Z
UID:3047-1687462200-1687467600@chestertonacademyofottawa.ca
SUMMARY:ENCORE PERFORMANCE OF ANTIGONE
DESCRIPTION:The Sophocles Greek classic and tragedy written in 400 B.C. Brother kills brother and the fallout is an ensuing struggle between duty to the gods and duty to the king. Featuring Alexander Gay and Angelica Medina. A Chesterton Academy of Ottawa student cast directed by Jenna Henry.               7:30 p.m. – 9 p.m.\nBlessed Sacrament parish hall\n194 Fourth Avenue\, Ottawa
URL:https://chestertonacademyofottawa.ca/event/encore-performance-of-antigone/
LOCATION:Ontario
CATEGORIES:Event,Past
ATTACH;FMTTYPE=image/jpeg:https://chestertonacademyofottawa.ca/wp-content/uploads/2023/05/IMG_9340.jpeg
END:VEVENT
END:VCALENDAR