BEGIN:VCALENDAR
VERSION:2.0
PRODID:-//Chesterton Academy of Ottawa - ECPv6.15.17.1//NONSGML v1.0//EN
CALSCALE:GREGORIAN
METHOD:PUBLISH
X-ORIGINAL-URL:https://chestertonacademyofottawa.ca
X-WR-CALDESC:Events for Chesterton Academy of Ottawa
REFRESH-INTERVAL;VALUE=DURATION:PT1H
X-Robots-Tag:noindex
X-PUBLISHED-TTL:PT1H
BEGIN:VTIMEZONE
TZID:UTC
BEGIN:STANDARD
TZOFFSETFROM:+0000
TZOFFSETTO:+0000
TZNAME:UTC
DTSTART:20220101T000000
END:STANDARD
END:VTIMEZONE
BEGIN:VEVENT
DTSTART;TZID=UTC:20230424T121000
DTEND;TZID=UTC:20230424T125000
DTSTAMP:20260422T094727
CREATED:20230403T130004Z
LAST-MODIFIED:20230412T142948Z
UID:2981-1682338200-1682340600@chestertonacademyofottawa.ca
SUMMARY:Lunch-time speaker series begins
DESCRIPTION:First talk: A lawyer who spent time with Mother Teresa \n 
URL:https://chestertonacademyofottawa.ca/event/lunch-time-speaker-series-begins/
LOCATION:Ontario
CATEGORIES:Event
ATTACH;FMTTYPE=image/jpeg:https://chestertonacademyofottawa.ca/wp-content/uploads/2023/03/speaker-series-scaled.jpg
END:VEVENT
END:VCALENDAR