BEGIN:VCALENDAR
VERSION:2.0
PRODID:-//Chesterton Academy of Ottawa - ECPv6.15.17.1//NONSGML v1.0//EN
CALSCALE:GREGORIAN
METHOD:PUBLISH
X-WR-CALNAME:Chesterton Academy of Ottawa
X-ORIGINAL-URL:https://chestertonacademyofottawa.ca
X-WR-CALDESC:Events for Chesterton Academy of Ottawa
REFRESH-INTERVAL;VALUE=DURATION:PT1H
X-Robots-Tag:noindex
X-PUBLISHED-TTL:PT1H
BEGIN:VTIMEZONE
TZID:UTC
BEGIN:STANDARD
TZOFFSETFROM:+0000
TZOFFSETTO:+0000
TZNAME:UTC
DTSTART:20210101T000000
END:STANDARD
END:VTIMEZONE
BEGIN:VEVENT
DTSTART;VALUE=DATE:20220526
DTEND;VALUE=DATE:20220527
DTSTAMP:20260423T003355
CREATED:20230114T204326Z
LAST-MODIFIED:20230115T204750Z
UID:2846-1653523200-1653609599@chestertonacademyofottawa.ca
SUMMARY:Chesterton Presents: A Midsummer Night's Dream and Dear Lottie
DESCRIPTION:
URL:https://chestertonacademyofottawa.ca/event/chesterton-presents-a-midsummer-nights-dream-and-dear-lottie/
LOCATION:Ontario
CATEGORIES:Event,Past
ATTACH;FMTTYPE=image/png:https://chestertonacademyofottawa.ca/wp-content/uploads/2023/01/group5.png
END:VEVENT
END:VCALENDAR