BEGIN:VCALENDAR
VERSION:2.0
PRODID:-//Chesterton Academy of Ottawa - ECPv6.15.17.1//NONSGML v1.0//EN
CALSCALE:GREGORIAN
METHOD:PUBLISH
X-WR-CALNAME:Chesterton Academy of Ottawa
X-ORIGINAL-URL:https://chestertonacademyofottawa.ca
X-WR-CALDESC:Events for Chesterton Academy of Ottawa
REFRESH-INTERVAL;VALUE=DURATION:PT1H
X-Robots-Tag:noindex
X-PUBLISHED-TTL:PT1H
BEGIN:VTIMEZONE
TZID:UTC
BEGIN:STANDARD
TZOFFSETFROM:+0000
TZOFFSETTO:+0000
TZNAME:UTC
DTSTART:20200101T000000
END:STANDARD
END:VTIMEZONE
BEGIN:VEVENT
DTSTART;TZID=UTC:20211022T080000
DTEND;TZID=UTC:20211022T170000
DTSTAMP:20260423T090026
CREATED:20211007T195253Z
LAST-MODIFIED:20211009T234645Z
UID:2674-1634889600-1634922000@chestertonacademyofottawa.ca
SUMMARY:SOCCER: Chesterton vs. Merrick Preparatory School
DESCRIPTION:
URL:https://chestertonacademyofottawa.ca/event/soccer-chesterton-vs-st-laurent-academy/
LOCATION:Ontario
CATEGORIES:Event
ATTACH;FMTTYPE=image/jpeg:https://chestertonacademyofottawa.ca/wp-content/uploads/2021/10/soccer-ball-2121x1414-989x660-1.jpg
END:VEVENT
END:VCALENDAR