BEGIN:VCALENDAR
VERSION:2.0
PRODID:-//Chesterton Academy of Ottawa - ECPv6.15.17.1//NONSGML v1.0//EN
CALSCALE:GREGORIAN
METHOD:PUBLISH
X-ORIGINAL-URL:https://chestertonacademyofottawa.ca
X-WR-CALDESC:Events for Chesterton Academy of Ottawa
REFRESH-INTERVAL;VALUE=DURATION:PT1H
X-Robots-Tag:noindex
X-PUBLISHED-TTL:PT1H
BEGIN:VTIMEZONE
TZID:UTC
BEGIN:STANDARD
TZOFFSETFROM:+0000
TZOFFSETTO:+0000
TZNAME:UTC
DTSTART:20220101T000000
END:STANDARD
END:VTIMEZONE
BEGIN:VEVENT
DTSTART;TZID=UTC:20230329T113000
DTEND;TZID=UTC:20230329T131500
DTSTAMP:20260423T003452
CREATED:20230317T175416Z
LAST-MODIFIED:20230402T232837Z
UID:2975-1680089400-1680095700@chestertonacademyofottawa.ca
SUMMARY:DAY OF LENTEN REFLECTION: Adoration\, confession and benediction
DESCRIPTION:
URL:https://chestertonacademyofottawa.ca/event/day-of-lenten-reflection-adoration-confession-and-benediction/
LOCATION:Ontario
CATEGORIES:Past
ATTACH;FMTTYPE=image/jpeg:https://chestertonacademyofottawa.ca/wp-content/uploads/2023/03/adoration-scaled.jpg
END:VEVENT
END:VCALENDAR