BEGIN:VCALENDAR
VERSION:2.0
PRODID:-//Chesterton Academy of Ottawa - ECPv6.15.17.1//NONSGML v1.0//EN
CALSCALE:GREGORIAN
METHOD:PUBLISH
X-WR-CALNAME:Chesterton Academy of Ottawa
X-ORIGINAL-URL:https://chestertonacademyofottawa.ca
X-WR-CALDESC:Events for Chesterton Academy of Ottawa
REFRESH-INTERVAL;VALUE=DURATION:PT1H
X-Robots-Tag:noindex
X-PUBLISHED-TTL:PT1H
BEGIN:VTIMEZONE
TZID:UTC
BEGIN:STANDARD
TZOFFSETFROM:+0000
TZOFFSETTO:+0000
TZNAME:UTC
DTSTART:20220101T000000
END:STANDARD
END:VTIMEZONE
BEGIN:VEVENT
DTSTART;VALUE=DATE:20230223
DTEND;VALUE=DATE:20230224
DTSTAMP:20260423T030045
CREATED:20220916T205202Z
LAST-MODIFIED:20220916T205202Z
UID:2775-1677110400-1677196799@chestertonacademyofottawa.ca
SUMMARY:University of Waterloo Math competition (Grades 9 to 11)
DESCRIPTION:
URL:https://chestertonacademyofottawa.ca/event/university-of-waterloo-math-competition-grades-9-to-11/
LOCATION:Ontario
ATTACH;FMTTYPE=image/jpeg:https://chestertonacademyofottawa.ca/wp-content/uploads/2022/09/math-exam-scaled.jpg
END:VEVENT
END:VCALENDAR